BEGIN:VCALENDAR
PRODID;X-RICAL-TZSOURCE=TZINFO:-&#47;&#47;com.denhaven2&#47;NONSGML ri_cal gem&#47;&#47;EN
CALSCALE:GREGORIAN
VERSION:2.0
BEGIN:VEVENT
DTEND;VALUE=DATE:20081124
DTSTART;VALUE=DATE:20081124
DESCRIPTION:1.10 is due on 11&#47;24&#47;08 (42 tickets)
SUMMARY:Milestone for NatsuLiphone: 1.10
LOCATION:https:&#47;&#47;natsuliphone.lighthouseapp.com&#47;projects&#47;15656&#47;milestones
 &#47;16987-1-10
END:VEVENT
BEGIN:VEVENT
DTEND;VALUE=DATE:20081224
DTSTART;VALUE=DATE:20081224
DESCRIPTION:1.20 is due on 12&#47;24&#47;08 (15 tickets)
SUMMARY:Milestone for NatsuLiphone: 1.20
LOCATION:https:&#47;&#47;natsuliphone.lighthouseapp.com&#47;projects&#47;15656&#47;milestones
 &#47;23323-120
END:VEVENT
BEGIN:VEVENT
DTEND;VALUE=DATE:20090126
DTSTART;VALUE=DATE:20090126
DESCRIPTION:1.50 is due on 01&#47;26&#47;09 (4 tickets)
SUMMARY:Milestone for NatsuLiphone: 1.50
LOCATION:https:&#47;&#47;natsuliphone.lighthouseapp.com&#47;projects&#47;15656&#47;milestones
 &#47;16988-1-50
END:VEVENT
END:VCALENDAR
